BEGIN:VCALENDAR
VERSION:2.0
PRODID:SchoolNow
CALSCALE:GREGORIAN
BEGIN:VEVENT
UID:2d69790c-e3e6-11ef-8a97-0a58a9feac02
DTSTAMP:20251216T154641Z
SUMMARY:PTC Meeting (Rm 44)
URL;VALUE=URI:https://www.sylvan.k12.ca.us/schools/sherwood/calendar/742763
 3/ptc-meeting-rm-44
DTSTART:20260918T003000Z
DTEND:20260918T013000Z
END:VEVENT
END:VCALENDAR
