BEGIN:VCALENDAR
VERSION:2.0
PRODID:SchoolNow
CALSCALE:GREGORIAN
BEGIN:VEVENT
UID:79c9c77a-2e13-11f1-8eb2-0eb51ed7ae73
DTSTAMP:20260425T173009Z
SUMMARY:8th Boys Basketball @ Ustach
LOCATION:Ustach Middle School\, 2701 Kodiak Dr\, Modesto\, CA 95355\, USA
URL;VALUE=URI:https://www.sylvan.k12.ca.us/schools/somerset/calendar/896410
 1/8th-boys-basketball-ustach
DTSTART:20260123T004500Z
DTEND:20260123T014500Z
END:VEVENT
END:VCALENDAR
