BEGIN:VCALENDAR
VERSION:2.0
PRODID:SchoolNow
CALSCALE:GREGORIAN
BEGIN:VEVENT
UID:79c9d0d0-2e13-11f1-a5b7-0eb51ed7ae73
DTSTAMP:20260425T173009Z
SUMMARY:Dance
LOCATION:Somerset Middle School-1-MPR (500)
URL;VALUE=URI:https://www.sylvan.k12.ca.us/schools/somerset/calendar/896411
 0/dance
DTSTART:20260130T224500Z
DTEND:20260131T001500Z
END:VEVENT
END:VCALENDAR
