BEGIN:VCALENDAR
VERSION:2.0
PRODID:SchoolNow
CALSCALE:GREGORIAN
BEGIN:VEVENT
UID:79c9da58-2e13-11f1-afd3-0eb51ed7ae73
DTSTAMP:20260425T173009Z
SUMMARY:Wrestling practice
LOCATION:Somerset Middle School-1-MPR (500)
URL;VALUE=URI:https://www.sylvan.k12.ca.us/schools/somerset/calendar/896412
 1/wrestling-practice
DTSTART:20260121T213000Z
DTEND:20260121T233000Z
END:VEVENT
END:VCALENDAR
