BEGIN:VCALENDAR
VERSION:2.0
PRODID:SchoolNow
CALSCALE:GREGORIAN
BEGIN:VEVENT
UID:79c9de36-2e13-11f1-815d-0eb51ed7ae73
DTSTAMP:20260425T173008Z
SUMMARY:7th Boys Basketball practice
LOCATION:Somerset Middle School-1-Gym (300)
URL;VALUE=URI:https://www.sylvan.k12.ca.us/schools/somerset/calendar/896412
 4/7th-boys-basketball-practice
DTSTART:20260107T160000Z
DTEND:20260107T180000Z
END:VEVENT
END:VCALENDAR
