BEGIN:VCALENDAR
VERSION:2.0
PRODID:SchoolNow
CALSCALE:GREGORIAN
BEGIN:VEVENT
UID:79c9e1ba-2e13-11f1-8364-0eb51ed7ae73
DTSTAMP:20260425T173009Z
SUMMARY:7th Boys Basketball Practice
URL;VALUE=URI:https://www.sylvan.k12.ca.us/schools/somerset/calendar/896412
 8/7th-boys-basketball-practice
DTSTART:20260121T230000Z
DTEND:20260122T003000Z
END:VEVENT
END:VCALENDAR
