BEGIN:VCALENDAR
VERSION:2.0
PRODID:SchoolNow
CALSCALE:GREGORIAN
BEGIN:VEVENT
UID:79c9e9a8-2e13-11f1-8f28-0eb51ed7ae73
DTSTAMP:20260425T173008Z
SUMMARY:7th Boys Basketball Practice
LOCATION:Somerset Middle School-1-Gym (300)
URL;VALUE=URI:https://www.sylvan.k12.ca.us/schools/somerset/calendar/896413
 7/7th-boys-basketball-practice
DTSTART:20260116T230000Z
DTEND:20260117T010000Z
END:VEVENT
END:VCALENDAR
