BEGIN:VCALENDAR
VERSION:2.0
PRODID:SchoolNow
CALSCALE:GREGORIAN
BEGIN:VEVENT
UID:79ca037a-2e13-11f1-8204-0eb51ed7ae73
DTSTAMP:20260425T173008Z
SUMMARY:7th Boys Basketball Practice
LOCATION:Somerset Middle School-1-Gym (300)
URL;VALUE=URI:https://www.sylvan.k12.ca.us/schools/somerset/calendar/896416
 8/7th-boys-basketball-practice
DTSTART:20260113T230000Z
DTEND:20260114T003000Z
END:VEVENT
END:VCALENDAR
