BEGIN:VCALENDAR
VERSION:2.0
PRODID:SchoolNow
CALSCALE:GREGORIAN
BEGIN:VEVENT
UID:79ca0d0c-2e13-11f1-8aca-0eb51ed7ae73
DTSTAMP:20260425T173008Z
SUMMARY:Wrestling practice
LOCATION:Somerset Middle School-1-MPR (500)
URL;VALUE=URI:https://www.sylvan.k12.ca.us/schools/somerset/calendar/896417
 8/wrestling-practice
DTSTART:20260126T230000Z
DTEND:20260127T010000Z
END:VEVENT
END:VCALENDAR
