BEGIN:VCALENDAR
VERSION:2.0
PRODID:SchoolNow
CALSCALE:GREGORIAN
BEGIN:VEVENT
UID:79ca1554-2e13-11f1-83ce-0eb51ed7ae73
DTSTAMP:20260425T173008Z
SUMMARY:Wrestling practice
LOCATION:Somerset Middle School-1-MPR (500)
URL;VALUE=URI:https://www.sylvan.k12.ca.us/schools/somerset/calendar/896418
 4/wrestling-practice
DTSTART:20260129T230000Z
DTEND:20260130T010000Z
END:VEVENT
END:VCALENDAR
