BEGIN:VCALENDAR
VERSION:2.0
PRODID:SchoolNow
CALSCALE:GREGORIAN
BEGIN:VEVENT
UID:79ca1630-2e13-11f1-8e20-0eb51ed7ae73
DTSTAMP:20260425T173008Z
SUMMARY:8th Boys Basketball Practice
LOCATION:Somerset Middle School-1-Gym (300)
URL;VALUE=URI:https://www.sylvan.k12.ca.us/schools/somerset/calendar/896418
 5/8th-boys-basketball-practice
DTSTART:20260126T233000Z
DTEND:20260127T010000Z
END:VEVENT
END:VCALENDAR
