BEGIN:VCALENDAR
VERSION:2.0
PRODID:SchoolNow
CALSCALE:GREGORIAN
BEGIN:VEVENT
UID:79ca1a68-2e13-11f1-a546-0eb51ed7ae73
DTSTAMP:20260425T173009Z
SUMMARY:ELAC Meeting
LOCATION:Somerset Middle School-1-Room 34 (50)
URL;VALUE=URI:https://www.sylvan.k12.ca.us/schools/somerset/calendar/896419
 0/elac-meeting
DTSTART:20260127T230000Z
DTEND:20260128T000000Z
END:VEVENT
END:VCALENDAR
