BEGIN:VCALENDAR
VERSION:2.0
PRODID:SchoolNow
CALSCALE:GREGORIAN
BEGIN:VEVENT
UID:79ca1f68-2e13-11f1-9d4f-0eb51ed7ae73
DTSTAMP:20260425T173008Z
SUMMARY:7th Boys Basketball Practice
LOCATION:Somerset Middle School-1-Gym (300)
URL;VALUE=URI:https://www.sylvan.k12.ca.us/schools/somerset/calendar/896419
 6/7th-boys-basketball-practice
DTSTART:20260114T230000Z
DTEND:20260115T003000Z
END:VEVENT
END:VCALENDAR
