BEGIN:VCALENDAR
VERSION:2.0
PRODID:SchoolNow
CALSCALE:GREGORIAN
BEGIN:VEVENT
UID:7a215d78-2e13-11f1-9221-0eb51ed7ae73
DTSTAMP:20260425T112508Z
SUMMARY:Winter Break
URL;VALUE=URI:https://www.sylvan.k12.ca.us/schools/somerset/calendar/896420
 0/winter-break
DTSTART;VALUE=DATE:20251222
DTEND;VALUE=DATE:20260110
END:VEVENT
END:VCALENDAR
