BEGIN:VCALENDAR
VERSION:2.0
PRODID:SchoolNow
CALSCALE:GREGORIAN
BEGIN:VEVENT
UID:7a216656-2e13-11f1-9536-0eb51ed7ae73
DTSTAMP:20260425T173008Z
SUMMARY:7th Boys Basketball @ Ustach
LOCATION:Ustach Middle School\, 2701 Kodiak Dr\, Modesto\, CA 95355\, USA
URL;VALUE=URI:https://www.sylvan.k12.ca.us/schools/somerset/calendar/896420
 5/7th-boys-basketball-ustach
DTSTART:20260122T234500Z
DTEND:20260123T004500Z
END:VEVENT
END:VCALENDAR
