BEGIN:VCALENDAR
VERSION:2.0
PRODID:SchoolNow
CALSCALE:GREGORIAN
BEGIN:VEVENT
UID:7a216aac-2e13-11f1-ba6d-0eb51ed7ae73
DTSTAMP:20260425T173009Z
SUMMARY:8th Boys Basketball Practice
URL;VALUE=URI:https://www.sylvan.k12.ca.us/schools/somerset/calendar/896420
 9/8th-boys-basketball-practice
DTSTART:20260112T233000Z
DTEND:20260113T010000Z
END:VEVENT
END:VCALENDAR
