BEGIN:VCALENDAR
VERSION:2.0
PRODID:SchoolNow
CALSCALE:GREGORIAN
BEGIN:VEVENT
UID:7a216e3a-2e13-11f1-b83e-0eb51ed7ae73
DTSTAMP:20260425T173008Z
SUMMARY:7th Boys Basketball vs. Savage
LOCATION:Somerset Middle School-1-Gym (300)
URL;VALUE=URI:https://www.sylvan.k12.ca.us/schools/somerset/calendar/896421
 3/7th-boys-basketball-vs-savage
DTSTART:20260115T234500Z
DTEND:20260116T004500Z
END:VEVENT
END:VCALENDAR
