BEGIN:VCALENDAR
VERSION:2.0
PRODID:SchoolNow
CALSCALE:GREGORIAN
BEGIN:VEVENT
UID:7a216f2a-2e13-11f1-a1c5-0eb51ed7ae73
DTSTAMP:20260425T173009Z
SUMMARY:8th Boys Basketball vs. Savage
LOCATION:Somerset Middle School-1-Gym (300)
URL;VALUE=URI:https://www.sylvan.k12.ca.us/schools/somerset/calendar/896421
 4/8th-boys-basketball-vs-savage
DTSTART:20260116T004500Z
DTEND:20260116T014500Z
END:VEVENT
END:VCALENDAR
