BEGIN:VCALENDAR
VERSION:2.0
PRODID:SchoolNow
CALSCALE:GREGORIAN
BEGIN:VEVENT
UID:7a2177b8-2e13-11f1-9f0f-0eb51ed7ae73
DTSTAMP:20260425T173008Z
SUMMARY:Wrestling Practice
LOCATION:Somerset Middle School-1-MPR (500)
URL;VALUE=URI:https://www.sylvan.k12.ca.us/schools/somerset/calendar/896422
 3/wrestling-practice
DTSTART:20260128T213000Z
DTEND:20260128T233000Z
END:VEVENT
END:VCALENDAR
