BEGIN:VCALENDAR
VERSION:2.0
PRODID:SchoolNow
CALSCALE:GREGORIAN
BEGIN:VEVENT
UID:7a2184ec-2e13-11f1-a5fa-0eb51ed7ae73
DTSTAMP:20260425T173008Z
SUMMARY:8th Boys Basketball vs. Oakdale
LOCATION:Somerset Middle School-1-Gym (300)
URL;VALUE=URI:https://www.sylvan.k12.ca.us/schools/somerset/calendar/896423
 7/8th-boys-basketball-vs-oakdale
DTSTART:20260128T004500Z
DTEND:20260128T014500Z
END:VEVENT
END:VCALENDAR
