BEGIN:VCALENDAR
VERSION:2.0
PRODID:SchoolNow
CALSCALE:GREGORIAN
BEGIN:VEVENT
UID:7a219bd0-2e13-11f1-9a13-0eb51ed7ae73
DTSTAMP:20260425T173009Z
SUMMARY:7th Boys Basketball Practice
LOCATION:Somerset Middle School-1-Gym (300)
URL;VALUE=URI:https://www.sylvan.k12.ca.us/schools/somerset/calendar/896425
 7/7th-boys-basketball-practice
DTSTART:20260128T230000Z
DTEND:20260129T003000Z
END:VEVENT
END:VCALENDAR
