BEGIN:VCALENDAR
VERSION:2.0
PRODID:SchoolNow
CALSCALE:GREGORIAN
BEGIN:VEVENT
UID:7a21a382-2e13-11f1-adb8-0eb51ed7ae73
DTSTAMP:20260425T173008Z
SUMMARY:7th Boys Basketball @ El Portal
LOCATION:El Portal Middle School\, 805 1st St\, Escalon\, CA 95320\, USA
URL;VALUE=URI:https://www.sylvan.k12.ca.us/schools/somerset/calendar/896426
 6/7th-boys-basketball-el-portal
DTSTART:20260120T234500Z
DTEND:20260121T004500Z
END:VEVENT
END:VCALENDAR
