BEGIN:VCALENDAR
VERSION:2.0
PRODID:SchoolNow
CALSCALE:GREGORIAN
BEGIN:VEVENT
UID:7a21a530-2e13-11f1-855e-0eb51ed7ae73
DTSTAMP:20260425T173008Z
SUMMARY:7th Boys Basketball Practice
LOCATION:Somerset Middle School-1-Gym (300)
URL;VALUE=URI:https://www.sylvan.k12.ca.us/schools/somerset/calendar/896426
 8/7th-boys-basketball-practice
DTSTART:20260112T230000Z
DTEND:20260113T003000Z
END:VEVENT
END:VCALENDAR
