BEGIN:VCALENDAR
VERSION:2.0
PRODID:SchoolNow
CALSCALE:GREGORIAN
BEGIN:VEVENT
UID:7a21a7c4-2e13-11f1-aca6-0eb51ed7ae73
DTSTAMP:20260425T173009Z
SUMMARY:8th Boys Basketball Practice
LOCATION:Somerset Middle School-1-Gym (300)
URL;VALUE=URI:https://www.sylvan.k12.ca.us/schools/somerset/calendar/896427
 1/8th-boys-basketball-practice
DTSTART:20260129T003000Z
DTEND:20260129T020000Z
END:VEVENT
END:VCALENDAR
