BEGIN:VCALENDAR
VERSION:2.0
PRODID:SchoolNow
CALSCALE:GREGORIAN
BEGIN:VEVENT
UID:7a21a97c-2e13-11f1-bf26-0eb51ed7ae73
DTSTAMP:20260425T173009Z
SUMMARY:No School - Holiday
URL;VALUE=URI:https://www.sylvan.k12.ca.us/schools/somerset/calendar/896427
 3/no-school-holiday
DTSTART;VALUE=DATE:20260119
DTEND;VALUE=DATE:20260120
END:VEVENT
END:VCALENDAR
