BEGIN:VCALENDAR
VERSION:2.0
PRODID:SchoolNow
CALSCALE:GREGORIAN
BEGIN:VEVENT
UID:7a21be08-2e13-11f1-8b14-0eb51ed7ae73
DTSTAMP:20260425T173008Z
SUMMARY:8th Boys Basketball practice
LOCATION:Somerset Middle School-1-Gym (300)
URL;VALUE=URI:https://www.sylvan.k12.ca.us/schools/somerset/calendar/896429
 7/8th-boys-basketball-practice
DTSTART:20260105T230000Z
DTEND:20260106T010000Z
END:VEVENT
END:VCALENDAR
