BEGIN:VCALENDAR
VERSION:2.0
PRODID:SchoolNow
CALSCALE:GREGORIAN
BEGIN:VEVENT
UID:7a8d0f50-2e13-11f1-a9a3-0eb51ed7ae73
DTSTAMP:20260425T173009Z
SUMMARY:Wrestling practice
LOCATION:Somerset Middle School-1-MPR (500)
URL;VALUE=URI:https://www.sylvan.k12.ca.us/schools/somerset/calendar/896430
 8/wrestling-practice
DTSTART:20260122T230000Z
DTEND:20260123T010000Z
END:VEVENT
END:VCALENDAR
