BEGIN:VCALENDAR
VERSION:2.0
PRODID:SchoolNow
CALSCALE:GREGORIAN
BEGIN:VEVENT
UID:7a8d212a-2e13-11f1-9e71-0eb51ed7ae73
DTSTAMP:20260425T173009Z
SUMMARY:Minimum Day
URL;VALUE=URI:https://www.sylvan.k12.ca.us/schools/somerset/calendar/896432
 8/minimum-day
DTSTART;VALUE=DATE:20260128
DTEND;VALUE=DATE:20260129
END:VEVENT
END:VCALENDAR
