BEGIN:VCALENDAR
VERSION:2.0
PRODID:SchoolNow
CALSCALE:GREGORIAN
BEGIN:VEVENT
UID:55802bec-db93-11ec-ae65-0ef52e092aff
DTSTAMP:20240513T211745Z
SUMMARY:Labor Day
URL;VALUE=URI:https://www.sylvan.k12.ca.us/schools/stockard-coffee/calendar
 /3205326/labor-day
DTSTART;VALUE=DATE:20240902
DTEND;VALUE=DATE:20240903
END:VEVENT
END:VCALENDAR
