BEGIN:VCALENDAR
VERSION:2.0
PRODID:SchoolNow
CALSCALE:GREGORIAN
BEGIN:VEVENT
UID:111f5472-e2bf-11ec-b336-0e8aa5f04211
DTSTAMP:20240513T213738Z
SUMMARY:Picture Day
URL;VALUE=URI:https://www.sylvan.k12.ca.us/schools/stockard-coffee/calendar
 /3210901/picture-day
DTSTART;VALUE=DATE:20240820
DTEND;VALUE=DATE:20240821
END:VEVENT
END:VCALENDAR
