BEGIN:VCALENDAR
VERSION:2.0
PRODID:SchoolNow
CALSCALE:GREGORIAN
BEGIN:VEVENT
UID:d26345f8-2292-11ee-a1a1-026d31987635
DTSTAMP:20240515T184240Z
SUMMARY:First Day of School
URL;VALUE=URI:https://www.sylvan.k12.ca.us/schools/stockard-coffee/calendar
 /4499351/first-day-of-school
DTSTART;VALUE=DATE:20240806
DTEND;VALUE=DATE:20240807
END:VEVENT
END:VCALENDAR
