BEGIN:VCALENDAR
VERSION:2.0
PRODID:SchoolNow
CALSCALE:GREGORIAN
BEGIN:VEVENT
UID:fffd3964-2cb1-11ee-8677-0a58a9feac02
DTSTAMP:20240515T183745Z
SUMMARY:Back to School Night
URL;VALUE=URI:https://www.sylvan.k12.ca.us/schools/stockard-coffee/calendar
 /4527750/back-to-school-night
DTSTART:20240816T003000Z
DTEND:20240816T020000Z
END:VEVENT
END:VCALENDAR
