BEGIN:VCALENDAR
VERSION:2.0
PRODID:SchoolNow
CALSCALE:GREGORIAN
BEGIN:VEVENT
UID:ac407760-fc03-11ee-b7ad-0a58a9feac02
DTSTAMP:20240416T151200Z
SUMMARY:Last Minimum Day Wednesday
URL;VALUE=URI:https://www.sylvan.k12.ca.us/schools/stockard-coffee/calendar
 /5796067/last-minimum-day-wednesday
DTSTART:20240508T150900Z
DTEND:20240508T214200Z
END:VEVENT
END:VCALENDAR
