BEGIN:VCALENDAR
VERSION:2.0
PRODID:SchoolNow
CALSCALE:GREGORIAN
BEGIN:VEVENT
UID:be3aeab4-116f-11ef-ad32-0e7bf864445f
DTSTAMP:20240513T212830Z
SUMMARY:Winter Break
URL;VALUE=URI:https://www.sylvan.k12.ca.us/schools/stockard-coffee/calendar
 /5965788/winter-break
DTSTART;VALUE=DATE:20241223
DTEND;VALUE=DATE:20250111
END:VEVENT
END:VCALENDAR
