BEGIN:VCALENDAR
VERSION:2.0
PRODID:SchoolNow
CALSCALE:GREGORIAN
BEGIN:VEVENT
UID:5894c0f4-12eb-11ef-baa8-0a58a9feac02
DTSTAMP:20240515T184548Z
SUMMARY:Minimum Day Wednesdays start
URL;VALUE=URI:https://www.sylvan.k12.ca.us/schools/stockard-coffee/calendar
 /5975859/minimum-day-wednsdays-start
DTSTART:20240821T020000Z
DTEND:20240821T203500Z
END:VEVENT
END:VCALENDAR
