BEGIN:VCALENDAR
VERSION:2.0
PRODID:SchoolNow
CALSCALE:GREGORIAN
BEGIN:VEVENT
UID:dac9fdda-483f-11ef-84d2-0a58a9feac02
DTSTAMP:20240722T153416Z
SUMMARY:Spirit Dress Up Day- Extreme Red\, White\, and Blue
URL;VALUE=URI:https://www.sylvan.k12.ca.us/schools/stockard-coffee/calendar
 /6294026/spirit-dress-up-day-extream-red-white-and-blue
DTSTART:20240830T151000Z
DTEND:20240830T212500Z
END:VEVENT
END:VCALENDAR
