BEGIN:VCALENDAR
VERSION:2.0
PRODID:SchoolNow
CALSCALE:GREGORIAN
BEGIN:VEVENT
UID:00f4c3aa-4840-11ef-9e00-0a58a9feac02
DTSTAMP:20240722T153520Z
SUMMARY:Spirit Dress Up Day - Polka Dot/Stripes
URL;VALUE=URI:https://www.sylvan.k12.ca.us/schools/stockard-coffee/calendar
 /6294028/spirit-dress-up-day-polka-dot-stripes
DTSTART:20240927T151000Z
DTEND:20240927T212500Z
END:VEVENT
END:VCALENDAR
