BEGIN:VCALENDAR
VERSION:2.0
PRODID:SchoolNow
CALSCALE:GREGORIAN
BEGIN:VEVENT
UID:3e698c5c-4840-11ef-9b75-0a58a9feac02
DTSTAMP:20240722T153703Z
SUMMARY:Spirit Dress Up - Flannel Day
URL;VALUE=URI:https://www.sylvan.k12.ca.us/schools/stockard-coffee/calendar
 /6294029/spirit-dress-up-flannel-day
DTSTART:20241122T161000Z
DTEND:20241122T222500Z
END:VEVENT
END:VCALENDAR
