BEGIN:VCALENDAR
VERSION:2.0
PRODID:SchoolNow
CALSCALE:GREGORIAN
BEGIN:VEVENT
UID:5c6725ac-4840-11ef-9e78-0affcc9053ad
DTSTAMP:20240722T153753Z
SUMMARY:Spirit Dress Up Day - Favorite Winter character
URL;VALUE=URI:https://www.sylvan.k12.ca.us/schools/stockard-coffee/calendar
 /6294031/spirit-dress-up-day-favorite-winter-character
DTSTART:20241220T161000Z
DTEND:20241220T222500Z
END:VEVENT
END:VCALENDAR
