BEGIN:VCALENDAR
VERSION:2.0
PRODID:SchoolNow
CALSCALE:GREGORIAN
BEGIN:VEVENT
UID:8930df4c-4840-11ef-8c63-02217d7d6175
DTSTAMP:20240722T153908Z
SUMMARY:Spirit Dress Up day - Alphabet Day - Wear something that starts w/ 
 the the letter or your name
URL;VALUE=URI:https://www.sylvan.k12.ca.us/schools/stockard-coffee/calendar
 /6294033/spirit-dress-up-day-alphabet-day-wear-something-that-starts-w-the
 -the-letter-or-your-name
DTSTART:20250131T161000Z
DTEND:20250131T222500Z
END:VEVENT
END:VCALENDAR
