BEGIN:VCALENDAR
VERSION:2.0
PRODID:SchoolNow
CALSCALE:GREGORIAN
BEGIN:VEVENT
UID:3d99ba32-5bea-11ef-ac0e-0267d5fb454d
DTSTAMP:20240816T161148Z
SUMMARY:Minimum Day
URL;VALUE=URI:https://www.sylvan.k12.ca.us/schools/stockard-coffee/calendar
 /6412468/minimum-day
DTSTART:20241104T161000Z
DTEND:20241108T222500Z
END:VEVENT
END:VCALENDAR
