BEGIN:VCALENDAR
VERSION:2.0
PRODID:SchoolNow
CALSCALE:GREGORIAN
BEGIN:VEVENT
UID:89b386a8-5bec-11ef-9fbe-0affc05c6653
DTSTAMP:20240816T162815Z
SUMMARY:Minimum Day
URL;VALUE=URI:https://www.sylvan.k12.ca.us/schools/stockard-coffee/calendar
 /6412470/minimum-day
DTSTART:20241126T161000Z
DTEND:20241126T213500Z
END:VEVENT
END:VCALENDAR
