BEGIN:VCALENDAR
VERSION:2.0
PRODID:SchoolNow
CALSCALE:GREGORIAN
BEGIN:VEVENT
UID:cc78bcf6-5bec-11ef-9e15-0a58a9feac02
DTSTAMP:20240816T163007Z
SUMMARY:Minimum Day
URL;VALUE=URI:https://www.sylvan.k12.ca.us/schools/stockard-coffee/calendar
 /6412471/minimum-day
DTSTART:20241220T181000Z
DTEND:20241220T212500Z
END:VEVENT
END:VCALENDAR
