BEGIN:VCALENDAR
VERSION:2.0
PRODID:SchoolNow
CALSCALE:GREGORIAN
BEGIN:VEVENT
UID:d00b7340-778e-11f0-a7c1-0e05a2fca2ed
DTSTAMP:20250812T151250Z
SUMMARY:Back to School Night - August 14\, 2025 from 5:15-6:30pm
URL;VALUE=URI:https://www.sylvan.k12.ca.us/schools/stockard-coffee/calendar
 /8494453/back-to-school-night-august-14-2025-from-5-15-6-30pm
DTSTART:20250815T001500Z
DTEND:20250815T013000Z
END:VEVENT
END:VCALENDAR
