BEGIN:VCALENDAR
VERSION:2.0
PRODID:SchoolNow
CALSCALE:GREGORIAN
BEGIN:VEVENT
UID:90a5e83e-82a6-11f0-8266-0a58a9feac02
DTSTAMP:20250826T180035Z
SUMMARY:Labor Day - September 1\, 2025
URL;VALUE=URI:https://www.sylvan.k12.ca.us/schools/stockard-coffee/calendar
 /8545999/labor-day-september-1-2025
DTSTART;VALUE=DATE:20250901
DTEND;VALUE=DATE:20250902
END:VEVENT
END:VCALENDAR
