BEGIN:VCALENDAR
VERSION:2.0
PRODID:SchoolNow
CALSCALE:GREGORIAN
BEGIN:VEVENT
UID:ee095204-82a6-11f0-bade-0a58a9feac02
DTSTAMP:20250826T180311Z
SUMMARY:Parent Volunteer Training - August 14\, 2025 @ 4:30pm
LOCATION:Stockard Coffee MPR
URL;VALUE=URI:https://www.sylvan.k12.ca.us/schools/stockard-coffee/calendar
 /8546044/parent-volunteer-training-august-14-2025-4-30pm
DTSTART:20250814T113000Z
DTEND:20250814T123000Z
END:VEVENT
END:VCALENDAR
