BEGIN:VCALENDAR
VERSION:2.0
PRODID:SchoolNow
CALSCALE:GREGORIAN
BEGIN:VEVENT
UID:09c6c3a0-82a7-11f0-afa4-029f65b6582b
DTSTAMP:20250826T180545Z
SUMMARY:Parent Volunteer Training - October 15\, 2025 @ 2:30pm
LOCATION:Stockard Coffee Library
URL;VALUE=URI:https://www.sylvan.k12.ca.us/schools/stockard-coffee/calendar
 /8546045/parent-volunteer-training-october-15-2025-2-30pm
DTSTART:20251015T093000Z
DTEND:20251015T103000Z
END:VEVENT
END:VCALENDAR
