BEGIN:VCALENDAR
VERSION:2.0
PRODID:SchoolNow
CALSCALE:GREGORIAN
BEGIN:VEVENT
UID:33e87408-82a7-11f0-8b12-02b6ac64bda5
DTSTAMP:20250826T180538Z
SUMMARY:Parent Volunteer Training - February 6\, 2026 @ 9:00am
LOCATION:Stockard Coffee Library
URL;VALUE=URI:https://www.sylvan.k12.ca.us/schools/stockard-coffee/calendar
 /8546046/parent-volunteer-training-february-6-2026-9-00am
DTSTART:20260206T170000Z
DTEND:20260206T180000Z
END:VEVENT
END:VCALENDAR
