BEGIN:VCALENDAR
VERSION:2.0
PRODID:SchoolNow
CALSCALE:GREGORIAN
BEGIN:VEVENT
UID:7fe2eeb0-82a7-11f0-8455-0afff983aa55
DTSTAMP:20250826T180716Z
SUMMARY:Parent Volunteer Training - April 13\, 2026 @ 3:30pm
LOCATION:Stockard Coffee Library
URL;VALUE=URI:https://www.sylvan.k12.ca.us/schools/stockard-coffee/calendar
 /8546645/parent-volunteer-training-april-13-2026-3-30pm
DTSTART:20260413T223000Z
DTEND:20260413T233000Z
END:VEVENT
END:VCALENDAR
