BEGIN:VCALENDAR
VERSION:2.0
PRODID:SchoolNow
CALSCALE:GREGORIAN
BEGIN:VEVENT
UID:6069ff3a-b469-11f0-bcd3-0affda30926b
DTSTAMP:20251114T213226Z
SUMMARY:Veterans Day - November 10-11\, 2025 (No School)
URL;VALUE=URI:https://www.sylvan.k12.ca.us/schools/stockard-coffee/calendar
 /8758422/veterans-day-november-10-11-2025-no-school
DTSTART;VALUE=DATE:20251110
DTEND;VALUE=DATE:20251112
END:VEVENT
END:VCALENDAR
